BEGIN:VCALENDAR
VERSION:2.0
PRODID:-//უნივერსიტეტის ღონისძიებების პორტალი - ECPv6.2.8.2//NONSGML v1.0//EN
CALSCALE:GREGORIAN
METHOD:PUBLISH
X-ORIGINAL-URL:https://events.iliauni.edu.ge/en/
X-WR-CALDESC:Events for უნივერსიტეტის ღონისძიებების პორტალი
REFRESH-INTERVAL;VALUE=DURATION:PT1H
X-Robots-Tag:noindex
X-PUBLISHED-TTL:PT1H
BEGIN:VTIMEZONE
TZID:Asia/Dubai
BEGIN:STANDARD
TZOFFSETFROM:+0400
TZOFFSETTO:+0400
TZNAME:+04
DTSTART:20230101T000000
END:STANDARD
END:VTIMEZONE
BEGIN:VEVENT
DTSTART;TZID=Asia/Dubai:20230616T100000
DTEND;TZID=Asia/Dubai:20230616T100000
DTSTAMP:20260424T224312
CREATED:20230209T080019Z
LAST-MODIFIED:20240202T090618Z
UID:10000021-1686909600-1686909600@events.iliauni.edu.ge
SUMMARY:First Caucasian Symposium on Biospeleology
DESCRIPTION:The first Caucasian Symposium on Biospeleology (Cave Biology) will be held in the T102 auditorium of Ilia State University on June 16-17. \nThe organizers \nAssociate professors of Ilia State University: \nShalva Barjadze\, Levan Mumladze\, assistant researcher Eter Maghradze\, assistant laboratory technician Lado Shavadze. \nAbout the symposium \nThe meeting of speleologists will be the first attempt to start a series of symposiums on the biology of the Caucasus to create a network of scientists interested in biospeleology. \nThe presentation will cover the following topics: taxonomy\, systematics\, biodiversity\, ecology\, conservation\, biogeography\, evolution\, etc. \nParticipation \nParticipants can prepare oral presentations on-site\, as well as online using Zoom. \nThe deadline for registration and abstract submission is April 30\, 2023. \nSee the detailed information about the symposium at the link: https://cssb.iliauni.edu.ge/ \nFormat: Hybrid \nWorking language: English \nLocation: Ilia State University\, Auditorium T102\, Kakutsa Cholokashvili Ave 3/5 \nAttendance is free. \n2023 \n  \n  \n\n			\n				\n			\n			\n				\n			\n		\n\n[wpai_display_imported_files_here]
URL:https://events.iliauni.edu.ge/event/first-caucasian-symposium-on-biospeleology/
CATEGORIES:Events
ATTACH;FMTTYPE=image/png:https://events.iliauni.edu.ge/wp-content/uploads/2023/02/74462.png
END:VEVENT
END:VCALENDAR