BEGIN:VCALENDAR
VERSION:2.0
PRODID:-//უნივერსიტეტის ღონისძიებების პორტალი - ECPv6.2.8.2//NONSGML v1.0//EN
CALSCALE:GREGORIAN
METHOD:PUBLISH
X-WR-CALNAME:უნივერსიტეტის ღონისძიებების პორტალი
X-ORIGINAL-URL:https://events.iliauni.edu.ge/en/
X-WR-CALDESC:Events for უნივერსიტეტის ღონისძიებების პორტალი
REFRESH-INTERVAL;VALUE=DURATION:PT1H
X-Robots-Tag:noindex
X-PUBLISHED-TTL:PT1H
BEGIN:VTIMEZONE
TZID:Asia/Dubai
BEGIN:STANDARD
TZOFFSETFROM:+0400
TZOFFSETTO:+0400
TZNAME:+04
DTSTART:20230101T000000
END:STANDARD
END:VTIMEZONE
BEGIN:VEVENT
DTSTART;TZID=Asia/Dubai:20230323T113000
DTEND;TZID=Asia/Dubai:20230323T113000
DTSTAMP:20260425T225956
CREATED:20230320T064103Z
LAST-MODIFIED:20240202T090911Z
UID:10000123-1679571000-1679571000@events.iliauni.edu.ge
SUMMARY:MEETING OF THE AMBASSADOR OF ISRAEL TO GEORGIA HADAS MEITZAD WITH ILIAUNI STUDENTS
DESCRIPTION:On March 23\, at 11:30\, Hadas Meitzad\, the Ambassador Extraordinary and Plenipotentiary of Israel to Georgia\, will hold a meeting with students of Ilia State University. \nThe topic of the meeting is a thirty-year diplomatic and bilateral relations between Israel and Georgia. \nMeeting Agenda: \nThe Ambassador will talk about the history of the friendship between the countries as well as areas of their cooperation\, such as security\, energy and innovations; she will discuss the current situation in Israel and answer students’ questions. \nFor the full biography of the Ambassador\, follow the link: https://bit.ly/40iZ7Fd \nWorking Language: English \nTime: March 23\, 11:30 a.m. \nLocation: Book House Ligamus\, 32 I. Chavchavadze Ave. \nNOTE: Attendees are required to bring their ID cards. Those who wish to attend must undergo security screening. \n2023 \n\n			\n				\n			\n			\n				\n			\n		\n\n[wpai_display_imported_files_here]
URL:https://events.iliauni.edu.ge/event/meeting-of-the-ambassador-of-israel-to-georgia-hadas-meitzad-with-iliauni-students/
CATEGORIES:Events
ATTACH;FMTTYPE=image/png:https://events.iliauni.edu.ge/wp-content/uploads/2023/03/75189.png
END:VEVENT
END:VCALENDAR