BEGIN:VCALENDAR
VERSION:2.0
PRODID:-//უნივერსიტეტის ღონისძიებების პორტალი - ECPv6.2.8.2//NONSGML v1.0//EN
CALSCALE:GREGORIAN
METHOD:PUBLISH
X-WR-CALNAME:უნივერსიტეტის ღონისძიებების პორტალი
X-ORIGINAL-URL:https://events.iliauni.edu.ge/en/
X-WR-CALDESC:Events for უნივერსიტეტის ღონისძიებების პორტალი
REFRESH-INTERVAL;VALUE=DURATION:PT1H
X-Robots-Tag:noindex
X-PUBLISHED-TTL:PT1H
BEGIN:VTIMEZONE
TZID:Asia/Dubai
BEGIN:STANDARD
TZOFFSETFROM:+0400
TZOFFSETTO:+0400
TZNAME:+04
DTSTART:20230101T000000
END:STANDARD
END:VTIMEZONE
BEGIN:VEVENT
DTSTART;TZID=Asia/Dubai:20230205T200000
DTEND;TZID=Asia/Dubai:20230205T200000
DTSTAMP:20260426T082703
CREATED:20230131T125702Z
LAST-MODIFIED:20240202T090939Z
UID:10000133-1675627200-1675627200@events.iliauni.edu.ge
SUMMARY:PERFORMANCE "SPINELESS"
DESCRIPTION:Drama in 1 Act \nWhat does it feel like to live in Georgia\, when you are different? How can you oppose to the idifference of friends\, family\, society and country?  How can you survive and does the survival matter  at all\, when no one needs you\, no one understands you? One tragic story\, that Alex Chighvinadze wrote is based on true events\, unites the problems of the entire society and  invites us to think about how to change the country in which parents are forced to bury their transgender child quietly hiding from neighbors\, village\, country. \n\n\n\n\n\n\nDirector – Gela Guliashvili (Senior work)\n\n\n\n\n\n\nSet and Costume Designer – Teo Kukhianidze\nTechnical Assistant – Maka Metreveli\nSupervisor – Vano Khutsishvili\, Associate Professor\, Ilia State Unievrsity \nThe Cast: \n\nMartha – Maia Khornauli\nMamia – Giorgi Tsertsvadze\nNino – Aniko Shurgaia\nDaniel – Giorgi Makadze\n\nDuration of the Performance – 90 minutes\nFirst Performance – 2 July 2022 \n\nPhoto Gallery\n\n\nTime: February 5\,18 \, 20:00 \nDuration: 80 minutes\,  without  intermission \nLocation: Ilia State University Theatre\, Ilia Chavchavadze Avenue N32 (back yard) \n2023 \n\n\n			\n				\n			\n			\n				\n			\n		\n\n[wpai_display_imported_files_here]
URL:https://events.iliauni.edu.ge/event/performance-spineless-3/
CATEGORIES:Events
ATTACH;FMTTYPE=image/png:https://events.iliauni.edu.ge/wp-content/uploads/2023/01/74246.png
END:VEVENT
END:VCALENDAR