BEGIN:VCALENDAR
VERSION:2.0
PRODID:-//უნივერსიტეტის ღონისძიებების პორტალი - ECPv6.2.8.2//NONSGML v1.0//EN
CALSCALE:GREGORIAN
METHOD:PUBLISH
X-WR-CALNAME:უნივერსიტეტის ღონისძიებების პორტალი
X-ORIGINAL-URL:https://events.iliauni.edu.ge/en/
X-WR-CALDESC:Events for უნივერსიტეტის ღონისძიებების პორტალი
REFRESH-INTERVAL;VALUE=DURATION:PT1H
X-Robots-Tag:noindex
X-PUBLISHED-TTL:PT1H
BEGIN:VTIMEZONE
TZID:Asia/Dubai
BEGIN:STANDARD
TZOFFSETFROM:+0400
TZOFFSETTO:+0400
TZNAME:+04
DTSTART:20230101T000000
END:STANDARD
END:VTIMEZONE
BEGIN:VEVENT
DTSTART;TZID=Asia/Dubai:20230127T150000
DTEND;TZID=Asia/Dubai:20230127T150000
DTSTAMP:20260426T082707
CREATED:20230120T071050Z
LAST-MODIFIED:20241122T110934Z
UID:10000153-1674831600-1674831600@events.iliauni.edu.ge
SUMMARY:"Education and the Holocaust" - International Holocaust Remembrance Day
DESCRIPTION:The Public Defender of Georgia and the Tolerance Center operating under it\, in cooperation with Ilia State University\, Ivane Javakhishvili Tbilisi State University and the National Council of Jewish Women will hold an event for students in dedication to the International Holocaust Remembrance Day in the G 106 auditorium of Ilia State University on January 27\, at 15:00. \nThe theme of the 2023 International Day is “Education and the Holocaust”. \nThe meeting will be opened with greetings from the Rector of Ilia State University\, the representative of the Public Defender’s Office\, the head of the Tolerance Center\, the Ambassador of Israel to Georgia\, the representative of the USAID Democracy\, Human Rights\, and Governance Office and the head of the National Council of Jewish Women. \nAt the meeting\, psychologist Natia Panjikidze will review Viktor Frankl’s book “Yes to Life”. \nThe event will be held by the Tolerance Center operating under the Public Defender of Georgia with the support of the USAID program “Unity Through Diversity”\, which is implemented by the United Nations Association of Georgia. \nSee the schedule of the event as an attached file. \nTime: January 27\, 15:00 \nLocation: G 106 Auditorium (G. Tsereteli St.1)\, Ilia State University \n2023 \n\n			\n				\n			\n			\n				\n			\n		\n\n[wpai_display_imported_files_here]
URL:https://events.iliauni.edu.ge/event/education-and-the-holocaust-international-holocaust-remembrance-day/
CATEGORIES:Events
ATTACH;FMTTYPE=image/png:https://events.iliauni.edu.ge/wp-content/uploads/2023/01/74174.png
END:VEVENT
BEGIN:VEVENT
DTSTART;TZID=Asia/Dubai:20230127T200000
DTEND;TZID=Asia/Dubai:20230127T200000
DTSTAMP:20260426T082707
CREATED:20230123T121705Z
LAST-MODIFIED:20240202T091101Z
UID:10000147-1674849600-1674849600@events.iliauni.edu.ge
SUMMARY:PERFORMANCE "THE IDEAL FAMILY"
DESCRIPTION:Comedy in 1 Act \nWhat happens when you start building your life according to other’s opinions?! When you try to present yourself through derogation of others and create an ideal family only for others to see… Are there any ideal families at all?! Or there still are Václav Havel’s play characters around us\, who are constantly trying to underline inferiority of others and talk about their harmonious relationship. \nTranslator: Maya Nachkebia\nDirector: David Tchakhrakia\nSet and Costume Design: Giorgi Ustiashvili\nTechnical Director: Natia Samadashvili \nThe Cast:\nVera – Ruska Makashvili (Actress of the Rustaveli National Theatre)\nMihal – Giorgi Goguadze\nBedržih – Paata Papuashvili \nFirst Performance 30 March 2019\nDuration: 80 minutes\,  without  intermission \nPerformance was staged through financial assistance of Tbilisi Municipality\nand support of “Sky Development” \n\nRELATED PHOTO\nRELATED VIDEO\n\n\nTime: January 27\, 20:00 \nDuration: 80 minutes\,  without  intermission \nLocation: Ilia State University Theatre\, Ilia Chavchavadze Avenue N32 (back yard) \n2023 \n\n\n			\n				\n			\n			\n				\n			\n		\n\n[wpai_display_imported_files_here]
URL:https://events.iliauni.edu.ge/event/performance-the-ideal-family-3/
CATEGORIES:Events
ATTACH;FMTTYPE=image/png:https://events.iliauni.edu.ge/wp-content/uploads/2023/01/73994.png
END:VEVENT
END:VCALENDAR