BEGIN:VCALENDAR
VERSION:2.0
PRODID:-//უნივერსიტეტის ღონისძიებების პორტალი - ECPv6.2.8.2//NONSGML v1.0//EN
CALSCALE:GREGORIAN
METHOD:PUBLISH
X-WR-CALNAME:უნივერსიტეტის ღონისძიებების პორტალი
X-ORIGINAL-URL:https://events.iliauni.edu.ge/en/
X-WR-CALDESC:Events for უნივერსიტეტის ღონისძიებების პორტალი
REFRESH-INTERVAL;VALUE=DURATION:PT1H
X-Robots-Tag:noindex
X-PUBLISHED-TTL:PT1H
BEGIN:VTIMEZONE
TZID:Asia/Dubai
BEGIN:STANDARD
TZOFFSETFROM:+0400
TZOFFSETTO:+0400
TZNAME:+04
DTSTART:20230101T000000
END:STANDARD
END:VTIMEZONE
BEGIN:VEVENT
DTSTART;TZID=Asia/Dubai:20230110T120800
DTEND;TZID=Asia/Dubai:20230110T120800
DTSTAMP:20260426T082708
CREATED:20230110T080800Z
LAST-MODIFIED:20240202T091113Z
UID:10000177-1673352480-1673352480@events.iliauni.edu.ge
SUMMARY:Iliauni hosted an awarding ceremony for the winners of the Kings Olympiads
DESCRIPTION:Ilia State University and Kings Education Organization have a ten-year history of cooperation. Dozens of successful educational projects have been implemented within their cooperation\, including the annual project “The Choice is Yours” in the field of professional orientation of students and others. \nIlia State University hosted an award ceremony for the winners of the Kings Subject Olympiads on January 10. \n3 students from each age category were awarded in each subject (Georgian language\, English\, Mathematics\, Olympiad of Intelligence) throughout Georgia: 1st\, 2nd\, 3rd place winners. \nProfessor Giorgi Gvalia\, the Deputy Rector of Ilia State University\, took part in the awarding ceremony. \nAbout Kings Education Organization \nKings has been operating in the field of education since 2012. The mission of the organization is to raise the level of general education by increasing the motivation to study and introducing constantly updated educational technologies. \nOne of the main activities of Kings is the organization of educational subject Olympiads for grades II-XII in the following subjects: Georgian\, mathematics\, English and intelligence. \nIn addition to subject Olympiads\, the organization has been actively implementing various educational projects throughout Georgia since 2018. \n2023 \n\n			\n				\n			\n			\n				\n			\n		\n\n[wpai_display_imported_files_here]
URL:https://events.iliauni.edu.ge/event/iliauni-hosted-an-awarding-ceremony-for-the-winners-of-the-kings-olympiads/
CATEGORIES:Events
ATTACH;FMTTYPE=image/png:https://events.iliauni.edu.ge/wp-content/uploads/2023/01/73619.png
END:VEVENT
END:VCALENDAR